BEGIN:VCALENDAR
VERSION:2.0
PRODID:-//hacksw/handcal//NONSGML v1.0//EN
BEGIN:VEVENT
DTSTART:20150925T200000
DTEND:20150926T020000
LOCATION:O'connells Bastille \n1, Rue Lacuée \n75012 PARIS
ORGANIZER;CN=François-Xavier Ribac - Promotion ECP 2016 - Pierre Lefaucheux:MAILTO:francois-xavier.ribac@centralesupelec-alumni.com
SUMMARY:Afterwork'n Roll
DESCRIPTION:\nAprès quelques semaines de stage pour certains, quelques mois pour d'autres, il est temps de se retrouver pour un afterwork bien mérité.\nÇa se passe au bar O'Connells à Bastille. Vous êtes tous...
URL:https://association.centralesupelec-alumni.com/fr/group/promotion-ecp-2016-pierre-lefaucheux/349/calendar/afterwork-n-roll/2015/09/25/133
BEGIN:VALARM
TRIGGER:-P0DT1H0M0S
ACTION:DISPLAY
END:VALARM
END:VEVENT
END:VCALENDAR