BEGIN:VCALENDAR
VERSION:2.0
PRODID:-//hacksw/handcal//NONSGML v1.0//EN
BEGIN:VEVENT
DTSTART:20160624T083000
DTEND:20160624T103000
LOCATION:Maison des Centraliens niveau -1 \n8, Rue Jean Goujon \n75008 PARIS
ORGANIZER;CN=Association des Centraliens - Groupe Invités:MAILTO:csa-alumni@centralesupelec-alumni.com
SUMMARY:ANNULATION - Les Matinales de l'innovation :
DESCRIPTION:\n Les recettes exclusives de trois entreprises  innovantes \nTronico, Affilogic, Ennovia ... Electronique, biotech et ingénierie\n. Tronico participe au projet de dirigeable alimenté à l’énergie...
URL:https://association.centralesupelec-alumni.com/fr/group/groupe-invites/399/calendar/annulation-les-matinales-de-l-innovation/2016/06/24/1229
BEGIN:VALARM
TRIGGER:-P0DT1H0M0S
ACTION:DISPLAY
END:VALARM
END:VEVENT
END:VCALENDAR