BEGIN:VCALENDAR
VERSION:2.0
PRODID:-//hacksw/handcal//NONSGML v1.0//EN
BEGIN:VEVENT
DTSTART:20260521T121500Z
DTEND:20260521T150000Z
LOCATION:Cité de l'Histoire \n1, Parvis de la Défense \n92800 PUTEAUX
ORGANIZER;CN=Michel Galimberti - Généalogie (CSA):MAILTO:michel.galimberti@gmail.com
SUMMARY:Visite de la Cité de l'Histoire le jeudi 21 mai
DESCRIPTION:Le Groupe CSA Généalogie vous propose un voyage extraordinaire au sein de l’Histoire le jeudi 21 mai 2026. Avec la clé des siècles, vivez une aventure hors du commun qui vous plongera au cœur de...
URL:https://association.centralesupelec-alumni.com/fr/group/genealogie-csa/49/calendar/visite-de-la-cite-de-l-histoire-le-jeudi-21-mai/2026/05/21/10025
BEGIN:VALARM
TRIGGER:-P0DT1H0M0S
ACTION:DISPLAY
END:VALARM
END:VEVENT
END:VCALENDAR