BEGIN:VCALENDAR
VERSION:2.0
PRODID:-//hacksw/handcal//NONSGML v1.0//EN
BEGIN:VEVENT
DTSTART:20260610T160000Z
DTEND:20260610T183000Z
LOCATION:Maison CentraleSupelec \n8, Rue Jean Goujon \n75008 PARIS
ORGANIZER;CN=François Fleith - CentraleSupélec Business Angels:MAILTO:francois.fleith@gmail.com
SUMMARY:Entrepreneurs et Business Angels : comprendre davantage, relier mieux
DESCRIPTION:SAVE THE DATE\nLe 10 juin 2026, la Maison CentraleSupélec à Paris accueillera une soirée co-organisée par les groupements CentraleSupélec Business Angels et Centraliens & Supélec...
URL:https://association.centralesupelec-alumni.com/fr/group/centralesupelec-business-angels/319/calendar/entrepreneurs-et-business-angels-comprendre-davantage-relier-mieux/2026/06/10/10022
BEGIN:VALARM
TRIGGER:-P0DT1H0M0S
ACTION:DISPLAY
END:VALARM
END:VEVENT
END:VCALENDAR