BEGIN:VCALENDAR
VERSION:2.0
PRODID:-//hacksw/handcal//NONSGML v1.0//EN
BEGIN:VEVENT
DTSTART:20260603T060000Z
DTEND:20260603T080000Z
LOCATION:Maison CentraleSupelec \n8, Rue Jean Goujon \n75008 PARIS
ORGANIZER;CN=CentraleSupélec Alumni:MAILTO:csa-alumni@centralesupelec-alumni.com
SUMMARY:Petit-déjeuner conférence avec Arnaud Aymé (ECP 02) - DG Sia France
DESCRIPTION:CentraleSupélec Alumni a le plaisir de recevoir \nArnaud Aymé (ECP 02)Directeur général France SIA\n« Les transformations à l'oeuvre dans les transports :  ferroviaire, aérien, automobile, transport...
URL:https://association.centralesupelec-alumni.com/fr/event/petit-dejeuner-conference-avec-arnaud-ayme-ecp-02-dg-sia-france/2026/06/03/10019
BEGIN:VALARM
TRIGGER:-P0DT1H0M0S
ACTION:DISPLAY
END:VALARM
END:VEVENT
END:VCALENDAR