BEGIN:VCALENDAR
VERSION:2.0
PRODID:-//hacksw/handcal//NONSGML v1.0//EN
BEGIN:VEVENT
DTSTART:20260615T160000Z
DTEND:20260615T173000Z
LOCATION:Salle Pereire au 5ème etage Maison CentraleSupélec \n8, Rue Jean Goujon \n75008 PARIS
ORGANIZER;CN=Irina Jaubert - Économie Sociale & Solidaire (CSA):MAILTO:irina.jaubert@mailo.com
SUMMARY:AG du Groupement ESS
DESCRIPTION:\n        @page { size: 21cm 29.7cm; margin: 2cm }         p { line-height: 115%; margin-bottom: 0.25cm; background: transparent }         a:visited { color: #800000; so-language: zxx;...
URL:https://association.centralesupelec-alumni.com/fr/group/economie-sociale-solidaire-csa/69/calendar/ag-du-groupement-ess/2026/06/15/10018
BEGIN:VALARM
TRIGGER:-P0DT1H0M0S
ACTION:DISPLAY
END:VALARM
END:VEVENT
END:VCALENDAR