BEGIN:VCALENDAR
VERSION:2.0
PRODID:-//hacksw/handcal//NONSGML v1.0//EN
BEGIN:VEVENT
DTSTART:20261106T130000Z
DTEND:20261106T150000Z
LOCATION:Schneider Electric IntenCity \n160, Avenue des Martyrs \n38000 GRENOBLE
ORGANIZER;CN=Philippe Chinkirch - Dauphiné - Savoie (CSA):MAILTO:philippe.chinkirch@centraliens.net
SUMMARY:Visite de Schneider Electric IntenCity
DESCRIPTION:C’est un concentré de technologies et de bon sens. Innovant, connecté, intuitif, le nouveau bâtiment IntenCity de Schneider Electric a été conçu en se fondant sur trois piliers : l’humain, le...
URL:https://association.centralesupelec-alumni.com/fr/group/dauphine-savoie-csa/307/calendar/visite-de-schneider-electric-intencity/2026/11/06/10015
BEGIN:VALARM
TRIGGER:-P0DT1H0M0S
ACTION:DISPLAY
END:VALARM
END:VEVENT
END:VCALENDAR