BEGIN:VCALENDAR
VERSION:2.0
PRODID:-//hacksw/handcal//NONSGML v1.0//EN
BEGIN:VEVENT
DTSTART:20260604T163000Z
DTEND:20260604T200000Z
LOCATION:MAISON CENTRALESUPÉLEC ALUMNI \n8 rue Jean Goujon \n75008 PARIS
ORGANIZER;CN=Françoise Gendreau - Économie Sociale & Solidaire (CSA):MAILTO:francoise.gendreau@wanadoo.fr
SUMMARY:Acteur dans l'impact, ne restez pas seul face à vos problématiques, activez l'intelligence collective !
DESCRIPTION:\nEnvie d'expérimenter le Codev à travers une approche légère et efficace ?Envie de rencontrer d'autres acteurs de l'ESS pour un moment de partage et d'entraide ?\nVous rencontrez un problème dans...
URL:https://association.centralesupelec-alumni.com/fr/group/economie-sociale-solidaire-csa/69/calendar/acteur-dans-l-impact-ne-restez-pas-seul-face-a-vos-problematiques-activez-l-intelligence-collective/2026/06/04/10014
BEGIN:VALARM
TRIGGER:-P0DT1H0M0S
ACTION:DISPLAY
END:VALARM
END:VEVENT
END:VCALENDAR