BEGIN:VCALENDAR
VERSION:2.0
PRODID:-//hacksw/handcal//NONSGML v1.0//EN
BEGIN:VEVENT
DTSTART:20260518T170000Z
DTEND:20260518T203000Z
LOCATION:Maison CentraleSupélec \n8, Rue Jean Goujon \n75008 PARIS
ORGANIZER;CN=Nita Hauchecorne - CentraleSupélec Numérique:MAILTO:nita.hauchecorne@gmail.com
SUMMARY:L'impact de l'Intelligence Artificielle sur la démocratie
DESCRIPTION:Après la conférence de Nicolas Curien du 11 mars dernier sur le thème de "L’infox et l’esprit critique à l’heure des réseaux sociaux et de l’intelligence artificielle", le comité CentraleSupélec...
URL:https://association.centralesupelec-alumni.com/fr/group/centralesupelec-numerique/329/calendar/l-impact-de-l-intelligence-artificielle-sur-la-democratie/2026/05/18/10013
BEGIN:VALARM
TRIGGER:-P0DT1H0M0S
ACTION:DISPLAY
END:VALARM
END:VEVENT
END:VCALENDAR