BEGIN:VCALENDAR
VERSION:2.0
PRODID:-//hacksw/handcal//NONSGML v1.0//EN
BEGIN:VEVENT
DTSTART:20260605T113000Z
DTEND:20260605T130000Z
LOCATION:Musée de la Vie romantique - Hotel Scheffer-Renan  \n16, Rue Chaptal \n75009 PARIS
ORGANIZER;CN=Jacqueline Pasdeloup - CSA Ile de France:MAILTO:jacqueline@asso-supelec.org
SUMMARY:Exposition « Paul Huet (1803/1869) : Face au ciel » au musée de la Vie romantique
DESCRIPTION:Agence Drôles d’oiseaux - Paul HUET, Vue générale de Rouen, prise du Mont-aux Malades, \n1831, Rouen, Musée des Beaux-Arts © GrandPalaisRmn/ Y. Deslandes\nCette exposition permet de découvrir un...
URL:https://association.centralesupelec-alumni.com/fr/group/csa-ile-de-france/587/calendar/exposition-paul-huet-1803-1869-face-au-ciel-au-musee-de-la-vie-romantique/2026/06/05/10011
BEGIN:VALARM
TRIGGER:-P0DT1H0M0S
ACTION:DISPLAY
END:VALARM
END:VEVENT
END:VCALENDAR