BEGIN:VCALENDAR
VERSION:2.0
PRODID:-//hacksw/handcal//NONSGML v1.0//EN
BEGIN:VEVENT
DTSTART:20260521T173000Z
DTEND:20260521T203000Z
LOCATION:Lamb & Trotter \n6, Little Britain \nEC1A 7BX LONDON
ORGANIZER;CN=Christophe Wakim - Grande-Bretagne (CSA):MAILTO:christophe.wakim@gmail.com
SUMMARY:CSA Grande-Bretagne | 21 mai 2026 | Lamb & Trotter (St Paul)
DESCRIPTION:Afterwork CentraleSupélec à Londres – Jeudi 21 mai 2026 🍻Chers Alumni et étudiant(e)s de CentraleSupélec en stage ou en échange à Londres,Nous vous invitons à un afterwork de networking le jeudi 21...
URL:https://association.centralesupelec-alumni.com/fr/group/grande-bretagne-csa/265/calendar/csa-grande-bretagne-21-mai-2026-lamb-trotter-st-paul/2026/05/21/10010
BEGIN:VALARM
TRIGGER:-P0DT1H0M0S
ACTION:DISPLAY
END:VALARM
END:VEVENT
END:VCALENDAR