BEGIN:VCALENDAR
VERSION:2.0
PRODID:-//hacksw/handcal//NONSGML v1.0//EN
BEGIN:VEVENT
DTSTART:20260506T174500Z
DTEND:20260506T190000Z
LOCATION:La Maison des Centraliens \n8, Rue Jean Goujon \n75008 PARIS
ORGANIZER;CN=Hugo Hiel-Béraud - CSA Oenologie:MAILTO:hugo.hiel@outlook.com
SUMMARY:Master Class Exceptionnelle sur la situation des vignobles Bordelais
DESCRIPTION:Rendez-vous le mercredi 6 mai 2026 à 20h à la Maison des Centraliens ! Les clubs d’amateurs de vins CentraleSupélec Alumni et ESSEC Alumni ont le plaisir de vous convier à une Master Class...
URL:https://association.centralesupelec-alumni.com/fr/group/csa-oenologie/597/calendar/master-class-exceptionnelle-sur-la-situation-des-vignobles-bordelais/2026/05/06/10009
BEGIN:VALARM
TRIGGER:-P0DT1H0M0S
ACTION:DISPLAY
END:VALARM
END:VEVENT
END:VCALENDAR